BEGIN:VCALENDAR
VERSION:2.0
PRODID:-//Ken Garff for Good - ECPv6.15.20//NONSGML v1.0//EN
CALSCALE:GREGORIAN
METHOD:PUBLISH
X-WR-CALNAME:Ken Garff for Good
X-ORIGINAL-URL:https://www.kengarffforgood.org
X-WR-CALDESC:Events for Ken Garff for Good
REFRESH-INTERVAL;VALUE=DURATION:PT1H
X-Robots-Tag:noindex
X-PUBLISHED-TTL:PT1H
BEGIN:VTIMEZONE
TZID:America/Denver
BEGIN:DAYLIGHT
TZOFFSETFROM:-0700
TZOFFSETTO:-0600
TZNAME:MDT
DTSTART:20210314T090000
END:DAYLIGHT
BEGIN:STANDARD
TZOFFSETFROM:-0600
TZOFFSETTO:-0700
TZNAME:MST
DTSTART:20211107T080000
END:STANDARD
BEGIN:DAYLIGHT
TZOFFSETFROM:-0700
TZOFFSETTO:-0600
TZNAME:MDT
DTSTART:20220313T090000
END:DAYLIGHT
BEGIN:STANDARD
TZOFFSETFROM:-0600
TZOFFSETTO:-0700
TZNAME:MST
DTSTART:20221106T080000
END:STANDARD
BEGIN:DAYLIGHT
TZOFFSETFROM:-0700
TZOFFSETTO:-0600
TZNAME:MDT
DTSTART:20230312T090000
END:DAYLIGHT
BEGIN:STANDARD
TZOFFSETFROM:-0600
TZOFFSETTO:-0700
TZNAME:MST
DTSTART:20231105T080000
END:STANDARD
BEGIN:DAYLIGHT
TZOFFSETFROM:-0700
TZOFFSETTO:-0600
TZNAME:MDT
DTSTART:20240310T090000
END:DAYLIGHT
BEGIN:STANDARD
TZOFFSETFROM:-0600
TZOFFSETTO:-0700
TZNAME:MST
DTSTART:20241103T080000
END:STANDARD
END:VTIMEZONE
BEGIN:VTIMEZONE
TZID:UTC
BEGIN:STANDARD
TZOFFSETFROM:+0000
TZOFFSETTO:+0000
TZNAME:UTC
DTSTART:20210101T000000
END:STANDARD
END:VTIMEZONE
BEGIN:VTIMEZONE
TZID:America/Los_Angeles
BEGIN:DAYLIGHT
TZOFFSETFROM:-0800
TZOFFSETTO:-0700
TZNAME:PDT
DTSTART:20210314T100000
END:DAYLIGHT
BEGIN:STANDARD
TZOFFSETFROM:-0700
TZOFFSETTO:-0800
TZNAME:PST
DTSTART:20211107T090000
END:STANDARD
BEGIN:DAYLIGHT
TZOFFSETFROM:-0800
TZOFFSETTO:-0700
TZNAME:PDT
DTSTART:20220313T100000
END:DAYLIGHT
BEGIN:STANDARD
TZOFFSETFROM:-0700
TZOFFSETTO:-0800
TZNAME:PST
DTSTART:20221106T090000
END:STANDARD
BEGIN:DAYLIGHT
TZOFFSETFROM:-0800
TZOFFSETTO:-0700
TZNAME:PDT
DTSTART:20230312T100000
END:DAYLIGHT
BEGIN:STANDARD
TZOFFSETFROM:-0700
TZOFFSETTO:-0800
TZNAME:PST
DTSTART:20231105T090000
END:STANDARD
END:VTIMEZONE
BEGIN:VEVENT
DTSTART;TZID=America/Denver:20230520T090000
DTEND;TZID=America/Denver:20230520T150000
DTSTAMP:20260423T071351
CREATED:20230420T182301Z
LAST-MODIFIED:20230503T212259Z
UID:10000152-1684573200-1684594800@www.kengarffforgood.org
SUMMARY:Women Who Succeed Conference
DESCRIPTION:
URL:https://www.kengarffforgood.org/event/women-who-succeed-conference-3/
CATEGORIES:Events
END:VEVENT
BEGIN:VEVENT
DTSTART;VALUE=DATE:20230419
DTEND;VALUE=DATE:20230420
DTSTAMP:20260423T071351
CREATED:20230320T123113Z
LAST-MODIFIED:20230419T180304Z
UID:10000151-1681862400-1681948799@www.kengarffforgood.org
SUMMARY:Looking Ahead to Your Future Workshop
DESCRIPTION:
URL:https://www.kengarffforgood.org/event/looking-ahead-to-your-future-workshop/
CATEGORIES:Mentee
END:VEVENT
BEGIN:VEVENT
DTSTART;TZID=America/Denver:20230323T083000
DTEND;TZID=America/Denver:20230323T223000
DTSTAMP:20260423T071351
CREATED:20230221T083136Z
LAST-MODIFIED:20230323T125106Z
UID:10000150-1679560200-1679610600@www.kengarffforgood.org
SUMMARY:Breakfast at the Mansion
DESCRIPTION:Join us for breakfast to honor this year’s scholarship recipients and to hear from our founder and Utah’s First Lady\, Abby Cox\, at the Governor’s Mansion. This will be a breakfast event and will be limited to members only.
URL:https://www.kengarffforgood.org/event/breakfast-at-the-mansion/
LOCATION:Governor’s Mansion\, 603 East South Temple Street\, Salt Lake City\, UT\, 84102\, United States
CATEGORIES:Events
END:VEVENT
BEGIN:VEVENT
DTSTART;VALUE=DATE:20230322
DTEND;VALUE=DATE:20230323
DTSTAMP:20260423T071351
CREATED:20230220T082122Z
LAST-MODIFIED:20230322T125029Z
UID:10000149-1679443200-1679529599@www.kengarffforgood.org
SUMMARY:Building Strength & Resiliency Workshop
DESCRIPTION:
URL:https://www.kengarffforgood.org/event/building-strength-resiliency-workshop/
CATEGORIES:Mentee
END:VEVENT
BEGIN:VEVENT
DTSTART;TZID=UTC:20230310T080000
DTEND;TZID=UTC:20230310T170000
DTSTAMP:20260423T071351
CREATED:20230209T063122Z
LAST-MODIFIED:20230311T063644Z
UID:10000148-1678435200-1678467600@www.kengarffforgood.org
SUMMARY:Ken Garff Esports Spring Celebration 2023
DESCRIPTION:Hear from our special guest speaker\, Doug Bowser\, President of Nintendo America! Cheer on the Ken Garff Esports finalists as they compete to be crowned champion in: Super Smash Brothers Ultimate\, Mario Kart 8 Deluxe\, and Rocket League! \nCompete and learn with other students in workshops and competitions including coding\, cybersecurity\, photography\, engineering\, and more! \nLearn from Silicon Slopes companies and Utah higher ed institutions throughout the day during STEM workshops and activities. \nConcessions will be available at the arena during the day\, but they only accept credit cards. \nRSVP HERE!: https://kengarffesports2023.sched.com/
URL:https://www.kengarffforgood.org/event/ken-garff-esports-spring-celebration-2023/
LOCATION:Jon M Huntsman Center\, University of Utah\, 1825 S Campus Dr\, Salt Lake City\, UT\, 84112\, United States
CATEGORIES:Ken Garff Esports Events
ATTACH;FMTTYPE=image/jpeg:https://www.kengarffforgood.org/wp-content/uploads/2023/02/KGE-100-7DOeMU.tmp_.jpg
END:VEVENT
BEGIN:VEVENT
DTSTART;VALUE=DATE:20230304
DTEND;VALUE=DATE:20230305
DTSTAMP:20260423T071351
CREATED:20230203T063122Z
LAST-MODIFIED:20230305T064436Z
UID:10000147-1677888000-1677974399@www.kengarffforgood.org
SUMMARY:CSTA Equity in Action Summit
DESCRIPTION:The CSTA Equity in Action Summit is a one-day virtual event bringing together PreK-12 CS teachers for a call to action to transform our approach to providing equitable CS education rooted in justice. Engage in strategies to equip yourself with resources on representation\, accessibility\, and culturally sustaining pedagogies. Develop an action plan to increase CS education access to all students and empower them to use CS in a just way.
URL:https://www.kengarffforgood.org/event/csta-equity-in-action-summit/
CATEGORIES:Computer Science,Ken Garff Esports Events
ATTACH;FMTTYPE=image/webp:https://www.kengarffforgood.org/wp-content/uploads/2023/01/Logo_Black-IvyNqS.tmp_.webp
END:VEVENT
BEGIN:VEVENT
DTSTART;VALUE=DATE:20230301
DTEND;VALUE=DATE:20230302
DTSTAMP:20260423T071351
CREATED:20230131T063249Z
LAST-MODIFIED:20230228T064834Z
UID:10000146-1677628800-1677715199@www.kengarffforgood.org
SUMMARY:Code to Success Registration
DESCRIPTION:
URL:https://www.kengarffforgood.org/event/code-to-success-registration-3/
CATEGORIES:Ken Garff Esports Events
ATTACH;FMTTYPE=image/jpeg:https://www.kengarffforgood.org/wp-content/uploads/2023/01/CTS-100-0QAgka.tmp_-e1725997516141.jpg
END:VEVENT
BEGIN:VEVENT
DTSTART;TZID=UTC:20230228T090000
DTEND;TZID=UTC:20230228T130000
DTSTAMP:20260423T071351
CREATED:20230130T063204Z
LAST-MODIFIED:20230301T064917Z
UID:10000145-1677574800-1677589200@www.kengarffforgood.org
SUMMARY:SheTech Explorer Day
DESCRIPTION:
URL:https://www.kengarffforgood.org/event/shetech-explorer-day/
LOCATION:Mountain America Expo Center\, 9575 South State\, Sandy\, UT\, 84070\, United States
CATEGORIES:Ken Garff Esports Events
ATTACH;FMTTYPE=image/jpeg:https://www.kengarffforgood.org/wp-content/uploads/2023/01/SheTech-logo-Y0mT5y.tmp_.jpg
END:VEVENT
BEGIN:VEVENT
DTSTART;VALUE=DATE:20230222
DTEND;VALUE=DATE:20230223
DTSTAMP:20260423T071351
CREATED:20230123T190134Z
LAST-MODIFIED:20230222T083218Z
UID:10000144-1677024000-1677110399@www.kengarffforgood.org
SUMMARY:Becoming a Community Champion Workshop
DESCRIPTION:
URL:https://www.kengarffforgood.org/event/becoming-a-community-champion-workshop/
CATEGORIES:Mentee
END:VEVENT
BEGIN:VEVENT
DTSTART;VALUE=DATE:20230201
DTEND;VALUE=DATE:20230202
DTSTAMP:20260423T071351
CREATED:20230103T063426Z
LAST-MODIFIED:20230202T070201Z
UID:10000142-1675209600-1675295999@www.kengarffforgood.org
SUMMARY:Code to Success Registration
DESCRIPTION:
URL:https://www.kengarffforgood.org/event/code-to-success-registration-2/
CATEGORIES:Ken Garff Esports Events
ATTACH;FMTTYPE=image/jpeg:https://www.kengarffforgood.org/wp-content/uploads/2023/01/CTS-100-0QAgka.tmp_-e1725997516141.jpg
END:VEVENT
BEGIN:VEVENT
DTSTART;VALUE=DATE:20230125
DTEND;VALUE=DATE:20230126
DTSTAMP:20260423T071351
CREATED:20221226T133117Z
LAST-MODIFIED:20230125T193550Z
UID:10000140-1674604800-1674691199@www.kengarffforgood.org
SUMMARY:Financing Your Future Workshop
DESCRIPTION:
URL:https://www.kengarffforgood.org/event/financing-your-future-workshop/
CATEGORIES:Mentee
END:VEVENT
BEGIN:VEVENT
DTSTART;TZID=UTC:20230111T173000
DTEND;TZID=UTC:20230111T190000
DTSTAMP:20260423T071351
CREATED:20230112T063127Z
LAST-MODIFIED:20230112T065405Z
UID:10000143-1673458200-1673463600@www.kengarffforgood.org
SUMMARY:Professional Learning – Code N’ Play Winter
DESCRIPTION:In this quarterly CS House Party\, you’ll have an opportunity to select from different themes to Code ‘N Play with your colleagues. You’ll spend most of the time in a breakout getting to code the project/theme you select\, with the guidance and support of a coach\, while spending time with new and old friends. We will also share our creations with one another. This will be a great way to take a break and have fun coding and building community!
URL:https://www.kengarffforgood.org/event/professional-learning-code-n-play-winter/
CATEGORIES:Ken Garff Esports Events
ATTACH;FMTTYPE=image/webp:https://www.kengarffforgood.org/wp-content/uploads/2023/01/Logo_Black-IvyNqS.tmp_.webp
END:VEVENT
BEGIN:VEVENT
DTSTART;VALUE=DATE:20230101
DTEND;VALUE=DATE:20230102
DTSTAMP:20260423T071351
CREATED:20221230T063112Z
LAST-MODIFIED:20230102T065057Z
UID:10000141-1672531200-1672617599@www.kengarffforgood.org
SUMMARY:Code to Success Registration
DESCRIPTION:
URL:https://www.kengarffforgood.org/event/code-to-success-registration/
CATEGORIES:Ken Garff Esports Events
END:VEVENT
BEGIN:VEVENT
DTSTART;VALUE=DATE:20221214
DTEND;VALUE=DATE:20221215
DTSTAMP:20260423T071351
CREATED:20221115T051841Z
LAST-MODIFIED:20221214T111204Z
UID:10000139-1670976000-1671062399@www.kengarffforgood.org
SUMMARY:Pathway to Higher Education Workshop
DESCRIPTION:
URL:https://www.kengarffforgood.org/event/pathway-to-higher-education-workshop/
CATEGORIES:Mentee
END:VEVENT
BEGIN:VEVENT
DTSTART;VALUE=DATE:20221205
DTEND;VALUE=DATE:20221212
DTSTAMP:20260423T071351
CREATED:20221111T071320Z
LAST-MODIFIED:20221205T065127Z
UID:10000138-1670198400-1670803199@www.kengarffforgood.org
SUMMARY:Computer Science Education Week
DESCRIPTION:An annual call to action to inspire K-12 students to learn computer science
URL:https://www.kengarffforgood.org/event/computer-science-education-week/
CATEGORIES:Computer Science,Ken Garff Esports Events
END:VEVENT
BEGIN:VEVENT
DTSTART;VALUE=DATE:20221118
DTEND;VALUE=DATE:20221119
DTSTAMP:20260423T071351
CREATED:20220902T054631Z
LAST-MODIFIED:20221118T072144Z
UID:10000131-1668729600-1668815999@www.kengarffforgood.org
SUMMARY:Fall Festival Regional Event at the U
DESCRIPTION:
URL:https://www.kengarffforgood.org/event/fall-festival-regional-event-at-uvu/
CATEGORIES:Ken Garff Esports Events
ATTACH;FMTTYPE=image/jpeg:https://www.kengarffforgood.org/wp-content/uploads/2022/04/first-choice-if-it-will-fit-2-JOVukG.tmp_.jpg
END:VEVENT
BEGIN:VEVENT
DTSTART;VALUE=DATE:20221116
DTEND;VALUE=DATE:20221117
DTSTAMP:20260423T071351
CREATED:20221017T192126Z
LAST-MODIFIED:20221117T052514Z
UID:10000137-1668556800-1668643199@www.kengarffforgood.org
SUMMARY:Career & Industry Exploration Workshop
DESCRIPTION:
URL:https://www.kengarffforgood.org/event/career-industry-exploration-workshop/
CATEGORIES:Mentee
END:VEVENT
BEGIN:VEVENT
DTSTART;VALUE=DATE:20221111
DTEND;VALUE=DATE:20221112
DTSTAMP:20260423T071351
CREATED:20221013T053554Z
LAST-MODIFIED:20221111T071320Z
UID:10000136-1668124800-1668211199@www.kengarffforgood.org
SUMMARY:Fall Festival Regional Event at Utah Tech University
DESCRIPTION:
URL:https://www.kengarffforgood.org/event/fall-festival-regional-event-at-utah-tech-university/
CATEGORIES:Ken Garff Esports Events
ATTACH;FMTTYPE=image/jpeg:https://www.kengarffforgood.org/wp-content/uploads/2022/10/DSC0264-min-scaled-6bN0cb.tmp_.jpg
END:VEVENT
BEGIN:VEVENT
DTSTART;VALUE=DATE:20221103
DTEND;VALUE=DATE:20221104
DTSTAMP:20260423T071351
CREATED:20221004T163118Z
LAST-MODIFIED:20221104T011818Z
UID:10000135-1667433600-1667519999@www.kengarffforgood.org
SUMMARY:Girls Give Back
DESCRIPTION:
URL:https://www.kengarffforgood.org/event/girls-give-back/
CATEGORIES:Members
END:VEVENT
BEGIN:VEVENT
DTSTART;VALUE=DATE:20221021
DTEND;VALUE=DATE:20221022
DTSTAMP:20260423T071351
CREATED:20220922T053416Z
LAST-MODIFIED:20221022T053951Z
UID:10000134-1666310400-1666396799@www.kengarffforgood.org
SUMMARY:Fall Festival Regional Event at Weber State University
DESCRIPTION:
URL:https://www.kengarffforgood.org/event/fall-festival-regional-event-at-weber-state-university/
CATEGORIES:Ken Garff Esports Events
ATTACH;FMTTYPE=image/jpeg:https://www.kengarffforgood.org/wp-content/uploads/2022/04/IMG_7494-2048x1365-1-fqzNQz.tmp_.jpg
END:VEVENT
BEGIN:VEVENT
DTSTART;VALUE=DATE:20221019
DTEND;VALUE=DATE:20221020
DTSTAMP:20260423T071351
CREATED:20220919T141834Z
LAST-MODIFIED:20221019T194652Z
UID:10000133-1666137600-1666223999@www.kengarffforgood.org
SUMMARY:Communicating Effectively Workshop
DESCRIPTION:
URL:https://www.kengarffforgood.org/event/communicating-effectively-workshop/
CATEGORIES:Mentee
END:VEVENT
BEGIN:VEVENT
DTSTART;VALUE=DATE:20221014
DTEND;VALUE=DATE:20221015
DTSTAMP:20260423T071351
CREATED:20220915T053131Z
LAST-MODIFIED:20221014T062443Z
UID:10000132-1665705600-1665791999@www.kengarffforgood.org
SUMMARY:Fall Festival Regional Event at USU Eastern
DESCRIPTION:
URL:https://www.kengarffforgood.org/event/fall-festival-regional-event-at-usu-eastern/
CATEGORIES:Ken Garff Esports Events
ATTACH;FMTTYPE=image/jpeg:https://www.kengarffforgood.org/wp-content/uploads/2022/04/IMG_7488-1-scaled-1-Xaz9kD.tmp_.jpg
END:VEVENT
BEGIN:VEVENT
DTSTART;TZID=UTC:20220927T160000
DTEND;TZID=UTC:20220927T200000
DTSTAMP:20260423T071351
CREATED:20220717T055444Z
LAST-MODIFIED:20220928T054840Z
UID:10000125-1664294400-1664308800@www.kengarffforgood.org
SUMMARY:STEMFest
DESCRIPTION:Family Night September 27th\, FREE to the public!\n4:00 PM – 8:00 PM\n@ MOUNTAIN AMERICA EXPO CENTER & ONLINE
URL:https://www.kengarffforgood.org/event/stemfest/
CATEGORIES:Ken Garff Esports Events
ATTACH;FMTTYPE=image/jpeg:https://www.kengarffforgood.org/wp-content/uploads/2022/04/DSC0264-1-scaled-ho77k5.tmp_.jpg
END:VEVENT
BEGIN:VEVENT
DTSTART;TZID=America/Denver:20220922T180000
DTEND;TZID=America/Denver:20220922T200000
DTSTAMP:20260423T071351
CREATED:20220823T074635Z
LAST-MODIFIED:20220922T142234Z
UID:10000130-1663869600-1663876800@www.kengarffforgood.org
SUMMARY:Diamonds on Ice
DESCRIPTION:Please join us at the Women Who Succeed Diamonds on Ice Signature Soiree to celebrate the impactful work of our initiative and raise funds to support scholarships\, mentorships\, and programming for young women throughout Utah. \nSlip on your favorite little black dress to enjoy an evening of hors d’oeuvres while you wait to see if you picked the same number that reveals the sparkling Grace Diamond from inside one of 200 frozen diamond ice cubes. You will also have a chance to donate toward an opportunity to win one of our other exciting packages. \n  \nRSVP FOR MEMBERS ONLY!
URL:https://www.kengarffforgood.org/event/diamonds-on-ice/
CATEGORIES:Members
END:VEVENT
BEGIN:VEVENT
DTSTART;VALUE=DATE:20220921
DTEND;VALUE=DATE:20220922
DTSTAMP:20260423T071351
CREATED:20220822T073312Z
LAST-MODIFIED:20220921T141133Z
UID:10000129-1663718400-1663804799@www.kengarffforgood.org
SUMMARY:Leading with Confidence Workshop
DESCRIPTION:
URL:https://www.kengarffforgood.org/event/leading-with-confidence-workshop/
CATEGORIES:Mentee
END:VEVENT
BEGIN:VEVENT
DTSTART;TZID=America/Los_Angeles:20220907T060000
DTEND;TZID=America/Los_Angeles:20220908T170000
DTSTAMP:20260423T071351
CREATED:20220104T150740Z
LAST-MODIFIED:20220106T213608Z
UID:10000090-1662530400-1662656400@www.kengarffforgood.org
SUMMARY:Fishing the Green
DESCRIPTION:A day of fly fishing the green on September 7th or 8th! Fly in a private plane from SLC Airport at 6:30AM. Upon arrival\, enjoy breakfast and a presentation while overlooking the Flaming Gorge Dam. Then head out onto the river for a day of fly fishing on the world class A-Section of the Green River. End the day with a sponsored meal by R&R BBQ and board your private plane to be home by 5:00PM. An incredible day\, for an amazing cause!
URL:https://www.kengarffforgood.org/event/fishing-the-green/
LOCATION:Flaming Gorge
ATTACH;FMTTYPE=image/svg+xml:https://www.kengarffforgood.org/wp-content/uploads/2021/11/logo-red.svg
END:VEVENT
BEGIN:VEVENT
DTSTART;VALUE=DATE:20220831
DTEND;VALUE=DATE:20220901
DTSTAMP:20260423T071351
CREATED:20220717T055444Z
LAST-MODIFIED:20220901T054727Z
UID:10000126-1661904000-1661990399@www.kengarffforgood.org
SUMMARY:Ken Garff Esports SY 2022-2023 Grant Applications close
DESCRIPTION:Last day to submit grant applications for the 2022-2023 school year (pending availability). Apply on the Ken Garff Esports website when you sign up your club for the 2022-2023 school year.
URL:https://www.kengarffforgood.org/event/ken-garff-esports-sy-2022-2023-grant-applications-close/
CATEGORIES:Ken Garff Esports Events
ATTACH;FMTTYPE=image/png:https://www.kengarffforgood.org/wp-content/uploads/2022/08/MicrosoftTeams-image-CM9gWx.tmp_.png
END:VEVENT
BEGIN:VEVENT
DTSTART;VALUE=DATE:20220801
DTEND;VALUE=DATE:20220806
DTSTAMP:20260423T071351
CREATED:20220707T053944Z
LAST-MODIFIED:20220802T055158Z
UID:10000124-1659312000-1659743999@www.kengarffforgood.org
SUMMARY:Code.org CS Principles Workshop
DESCRIPTION:CS Principles (high school) The program includes: A 5-day summer workshop that fully prepares educators to utilize Code.org curricula and teacher support systems. 4 Saturday workshops during the school year when teachers will reconvene for ongoing training and just-in-time support. Additional opportunities for online and face-to-face networking and collaboration with peers throughout the year Two Summer Workshop options are: August 1-5 at Granite Technical Institute OR June 6-10 in Southern Utah
URL:https://www.kengarffforgood.org/event/code-org-cs-principles-workshop-2/
CATEGORIES:Announced by USBE,Ken Garff Esports Events
ATTACH;FMTTYPE=image/jpeg:https://www.kengarffforgood.org/wp-content/uploads/2022/04/IMG_7601-scaled-wyomSs.tmp_-cComdF.tmp_-2048x1366-1-IaYgGy.tmp_.jpg
END:VEVENT
BEGIN:VEVENT
DTSTART;VALUE=DATE:20220801
DTEND;VALUE=DATE:20220806
DTSTAMP:20260423T071351
CREATED:20220707T053943Z
LAST-MODIFIED:20220802T055158Z
UID:10000123-1659312000-1659743999@www.kengarffforgood.org
SUMMARY:Code.org CS Discoveries Workshop
DESCRIPTION:CS Discoveries (middle school): The program includes: A 5-day summer workshop that fully prepares educators to utilize Code.org curricula and teacher support systems. 4 Saturday workshops during the school year when teachers will reconvene for ongoing training and just-in-time support. Additional opportunities for online and face-to-face networking and collaboration with peers throughout the year Two Summer Workshop options are: August 1-5 at Granite Technical Institute OR June 6-10 in Southern Utah
URL:https://www.kengarffforgood.org/event/code-org-cs-discoveries-workshop-2/
CATEGORIES:Announced by USBE,Ken Garff Esports Events
ATTACH;FMTTYPE=image/jpeg:https://www.kengarffforgood.org/wp-content/uploads/2022/05/priscilla-du-preez-XkKCui44iM0-unsplash-scaled-bzbG30.tmp_.jpg
END:VEVENT
BEGIN:VEVENT
DTSTART;TZID=America/Denver:20220721T180000
DTEND;TZID=America/Denver:20220721T200000
DTSTAMP:20260423T071351
CREATED:20220721T063147Z
LAST-MODIFIED:20220721T063147Z
UID:10000128-1658426400-1658433600@www.kengarffforgood.org
SUMMARY:Hip & Humble Social
DESCRIPTION:Exclusive Women Who Succeed Membership & Mentee Social.
URL:https://www.kengarffforgood.org/event/hip-humble-social/
CATEGORIES:Members,Mentee
END:VEVENT
END:VCALENDAR