BEGIN:VCALENDAR
VERSION:2.0
PRODID:-//Ken Garff for Good - ECPv6.15.20//NONSGML v1.0//EN
CALSCALE:GREGORIAN
METHOD:PUBLISH
X-WR-CALNAME:Ken Garff for Good
X-ORIGINAL-URL:https://www.kengarffforgood.org
X-WR-CALDESC:Events for Ken Garff for Good
REFRESH-INTERVAL;VALUE=DURATION:PT1H
X-Robots-Tag:noindex
X-PUBLISHED-TTL:PT1H
BEGIN:VTIMEZONE
TZID:America/Denver
BEGIN:DAYLIGHT
TZOFFSETFROM:-0700
TZOFFSETTO:-0600
TZNAME:MDT
DTSTART:20240310T090000
END:DAYLIGHT
BEGIN:STANDARD
TZOFFSETFROM:-0600
TZOFFSETTO:-0700
TZNAME:MST
DTSTART:20241103T080000
END:STANDARD
BEGIN:DAYLIGHT
TZOFFSETFROM:-0700
TZOFFSETTO:-0600
TZNAME:MDT
DTSTART:20250309T090000
END:DAYLIGHT
BEGIN:STANDARD
TZOFFSETFROM:-0600
TZOFFSETTO:-0700
TZNAME:MST
DTSTART:20251102T080000
END:STANDARD
BEGIN:DAYLIGHT
TZOFFSETFROM:-0700
TZOFFSETTO:-0600
TZNAME:MDT
DTSTART:20260308T090000
END:DAYLIGHT
BEGIN:STANDARD
TZOFFSETFROM:-0600
TZOFFSETTO:-0700
TZNAME:MST
DTSTART:20261101T080000
END:STANDARD
BEGIN:DAYLIGHT
TZOFFSETFROM:-0700
TZOFFSETTO:-0600
TZNAME:MDT
DTSTART:20270314T090000
END:DAYLIGHT
BEGIN:STANDARD
TZOFFSETFROM:-0600
TZOFFSETTO:-0700
TZNAME:MST
DTSTART:20271107T080000
END:STANDARD
END:VTIMEZONE
BEGIN:VEVENT
DTSTART;TZID=America/Denver:20250517T120000
DTEND;TZID=America/Denver:20250517T163000
DTSTAMP:20260421T021940
CREATED:20250417T063659Z
LAST-MODIFIED:20250423T065200Z
UID:10000197-1747483200-1747499400@www.kengarffforgood.org
SUMMARY:Annual Women Who Succeed Conference
DESCRIPTION:Members and mentees are invited to join us in kicking off the new program year with Women Who Succeed!   Hosted in the Robert H. and Katharine B. Garff Building on the University of Utah campus\, it will be an afternoon full of networking\, workshops\, guest speakers\, and a meet & greet for our incoming mentors/mentees.  Please note this event is mandatory for mentors and mentees.
URL:https://www.kengarffforgood.org/event/annual-women-who-succeed-conference/
LOCATION:University of Utah:  Robert H. and Katharine B. Garff Building\, 1731 E. Campus Center Drive\, Salt Lake City\, UT\, United States
END:VEVENT
BEGIN:VEVENT
DTSTART;TZID=America/Denver:20260324T120000
DTEND;TZID=America/Denver:20260324T140000
DTSTAMP:20260421T021940
CREATED:20250225T041511Z
LAST-MODIFIED:20260311T224035Z
UID:10000193-1774353600-1774360800@www.kengarffforgood.org
SUMMARY:Founders Day Picnic Party
DESCRIPTION:Help us celebrate the upcoming 6th year of Women Who Succeed and the current year highlights. \nHear from our founders Kathi Garff and Erin Trenbeath-Murray as they recap the impacts we’ve had and the inspiration behind the Women Who Succeed mission. \nEnjoy the incredible garden atmosphere of the Red Butte Garden Orangerie\, with food\, fun\, photos\, and networking. Enjoy a storefront experience with garden take aways and gifts. \nPlease RSVP by purchasing a ticket – seating is limited and this event will sell out. \nMembers Only RSVP Link: https://www.eventbrite.com/e/women-who-succeed-founders-day-picnic-tickets-1983378303898?aff=oddtdtcreator
URL:https://www.kengarffforgood.org/event/founders-day-garden-party/
LOCATION:Red Butte Garden- Orangerie\, 300 Wakara Way\, Salt Lake City\, UT\, 84108
END:VEVENT
BEGIN:VEVENT
DTSTART;VALUE=DATE:20260513
DTEND;VALUE=DATE:20260515
DTSTAMP:20260421T021940
CREATED:20241008T161230Z
LAST-MODIFIED:20260311T223609Z
UID:10000178-1778630400-1778803199@www.kengarffforgood.org
SUMMARY:Ken Garff Hole in One Challenge
DESCRIPTION:This unique tournament has three 8-inch holes on every green with a chance to win a one-year lease of a brand-new car from the Ken Garff Automotive Group or $5\,000 cash prize. \n$3\,000 per foursome \nSponsorships available!
URL:https://www.kengarffforgood.org/event/ken-garff-hole-in-one-challenge-2/
LOCATION:Thanksgiving Point Golf Club\, Thanksgiving Point Golf Club
END:VEVENT
BEGIN:VEVENT
DTSTART;VALUE=DATE:20260624
DTEND;VALUE=DATE:20260626
DTSTAMP:20260421T021940
CREATED:20241008T205724Z
LAST-MODIFIED:20260311T223457Z
UID:10000179-1782259200-1782431999@www.kengarffforgood.org
SUMMARY:Utah Executive Sporting Clay Shoot
DESCRIPTION:Enjoy a sporting clay shoot with your foursome on 7-station course! Includes a live auction with amazing\, one-of-a-kind experiences. Guns and ammunition are provided and no previous clay shooting experience is necessary. \n$3\,000 per foursome. Sponsorships Available!
URL:https://www.kengarffforgood.org/event/utah-executive-sporting-clay-shoot/
LOCATION:Wasatch Wing and Clay
END:VEVENT
BEGIN:VEVENT
DTSTART;VALUE=DATE:20260902
DTEND;VALUE=DATE:20260905
DTSTAMP:20260421T021940
CREATED:20241008T210114Z
LAST-MODIFIED:20260311T222358Z
UID:10000180-1788307200-1788566399@www.kengarffforgood.org
SUMMARY:Fishing the Green
DESCRIPTION:Exclusive Experience! Take a private plane to the world-class A-section of the Green River and spend the day fly-fishing! A guide and meals are provided with an unprecedented live auction! \n$5\,000 per parties of two. Sponsorships Available!
URL:https://www.kengarffforgood.org/event/fishing-the-green-2/
LOCATION:Flaming Gorge
END:VEVENT
END:VCALENDAR